BEGIN:VCALENDAR
VERSION:2.0
PRODID:-//Ongar Pétanque - ECPv6.15.17//NONSGML v1.0//EN
CALSCALE:GREGORIAN
METHOD:PUBLISH
X-ORIGINAL-URL:https://ongarpetanque.co.uk
X-WR-CALDESC:Events for Ongar Pétanque
REFRESH-INTERVAL;VALUE=DURATION:PT1H
X-Robots-Tag:noindex
X-PUBLISHED-TTL:PT1H
BEGIN:VTIMEZONE
TZID:Europe/London
BEGIN:DAYLIGHT
TZOFFSETFROM:+0000
TZOFFSETTO:+0100
TZNAME:BST
DTSTART:20250330T010000
END:DAYLIGHT
BEGIN:STANDARD
TZOFFSETFROM:+0100
TZOFFSETTO:+0000
TZNAME:GMT
DTSTART:20251026T010000
END:STANDARD
BEGIN:DAYLIGHT
TZOFFSETFROM:+0000
TZOFFSETTO:+0100
TZNAME:BST
DTSTART:20260329T010000
END:DAYLIGHT
BEGIN:STANDARD
TZOFFSETFROM:+0100
TZOFFSETTO:+0000
TZNAME:GMT
DTSTART:20261025T010000
END:STANDARD
BEGIN:DAYLIGHT
TZOFFSETFROM:+0000
TZOFFSETTO:+0100
TZNAME:BST
DTSTART:20270328T010000
END:DAYLIGHT
BEGIN:STANDARD
TZOFFSETFROM:+0100
TZOFFSETTO:+0000
TZNAME:GMT
DTSTART:20271031T010000
END:STANDARD
END:VTIMEZONE
BEGIN:VEVENT
DTSTART;TZID=Europe/London:20260504T093000
DTEND;TZID=Europe/London:20260504T163000
DTSTAMP:20260421T035215
CREATED:20260219T140957Z
LAST-MODIFIED:20260227T143051Z
UID:2217-1777887000-1777912200@ongarpetanque.co.uk
SUMMARY:JOHN SEAR Annual Challenge at Ongar Pétanque
DESCRIPTION:
URL:https://ongarpetanque.co.uk/event/john-sear-festival-challenge/
LOCATION:Ongar Pétanque\, The Pleasance\, High Street\, Chipping Ongar\, Essex\, CM5 9AB\, United Kingdom
CATEGORIES:Members
END:VEVENT
BEGIN:VEVENT
DTSTART;VALUE=DATE:20260510
DTEND;VALUE=DATE:20260511
DTSTAMP:20260421T035215
CREATED:20260219T141035Z
LAST-MODIFIED:20260227T140922Z
UID:2219-1778371200-1778457599@ongarpetanque.co.uk
SUMMARY:Pétanque England Regional Qualifiers (Day 1)
DESCRIPTION:Venue TBC
URL:https://ongarpetanque.co.uk/event/regional-qualifiers-day-1/
CATEGORIES:Region and National
END:VEVENT
BEGIN:VEVENT
DTSTART;VALUE=DATE:20260516
DTEND;VALUE=DATE:20260517
DTSTAMP:20260421T035215
CREATED:20260219T141136Z
LAST-MODIFIED:20260227T141054Z
UID:2223-1778889600-1778975999@ongarpetanque.co.uk
SUMMARY:Eastern Southern Pétanque League (3rd Round)
DESCRIPTION:Venue TBC
URL:https://ongarpetanque.co.uk/event/espl-3rd-round/
CATEGORIES:Region and National
END:VEVENT
BEGIN:VEVENT
DTSTART;TZID=Europe/London:20260517T103000
DTEND;TZID=Europe/London:20260517T133000
DTSTAMP:20260421T035215
CREATED:20260219T141222Z
LAST-MODIFIED:20260227T162647Z
UID:2225-1779013800-1779024600@ongarpetanque.co.uk
SUMMARY:Ongar Pétanque Competition Singles and Pairs (2nd Round) at Ongar Pétanque
DESCRIPTION:
URL:https://ongarpetanque.co.uk/event/ongar-club-competition/
CATEGORIES:Members
END:VEVENT
BEGIN:VEVENT
DTSTART;VALUE=DATE:20260531
DTEND;VALUE=DATE:20260601
DTSTAMP:20260421T035215
CREATED:20260219T141109Z
LAST-MODIFIED:20260227T162917Z
UID:2221-1780185600-1780271999@ongarpetanque.co.uk
SUMMARY:Pétanque England Regional Qualifiers (Day 2)
DESCRIPTION:Venue TBC
URL:https://ongarpetanque.co.uk/event/regional-qualifiers-day-2/
CATEGORIES:Region and National
END:VEVENT
BEGIN:VEVENT
DTSTART;VALUE=DATE:20260606
DTEND;VALUE=DATE:20260607
DTSTAMP:20260421T035215
CREATED:20260219T141332Z
LAST-MODIFIED:20260227T140749Z
UID:2229-1780704000-1780790399@ongarpetanque.co.uk
SUMMARY:Pétanque England IWD National Pairs Final
DESCRIPTION:
URL:https://ongarpetanque.co.uk/event/iwd-national-pairs-final/
LOCATION:Whitnash Windmill Pétanque Club\, Heathcote Road\, Whitnash\, Warwickshire\, CV31 2NF\, United Kingdom
CATEGORIES:Region and National
END:VEVENT
BEGIN:VEVENT
DTSTART;TZID=Europe/London:20260607T103000
DTEND;TZID=Europe/London:20260607T133000
DTSTAMP:20260421T035215
CREATED:20260222T101852Z
LAST-MODIFIED:20260227T162721Z
UID:2287-1780828200-1780839000@ongarpetanque.co.uk
SUMMARY:Ongar Pétanque Triples Day (Round 4) at Ongar Pétanque
DESCRIPTION:
URL:https://ongarpetanque.co.uk/event/ongar-club-triples-day-round-4/
LOCATION:Ongar Pétanque\, The Pleasance\, High Street\, Chipping Ongar\, Essex\, CM5 9AB\, United Kingdom
CATEGORIES:Members
END:VEVENT
BEGIN:VEVENT
DTSTART;TZID=Europe/London:20260613T100000
DTEND;TZID=Europe/London:20260613T133000
DTSTAMP:20260421T035215
CREATED:20260222T102318Z
LAST-MODIFIED:20260227T142733Z
UID:2293-1781344800-1781357400@ongarpetanque.co.uk
SUMMARY:Epping v Ongar Challenge (1st Leg) at Epping Horizons Pétanque Club
DESCRIPTION:10:00 am start
URL:https://ongarpetanque.co.uk/event/epping-v-ongar-challenge-1st-leg/
LOCATION:Epping Horizons Pétanque Club\, Stonards Hil\, Epping\, Essex\, CM16 4QF\, United Kingdom
CATEGORIES:Members
END:VEVENT
BEGIN:VEVENT
DTSTART;TZID=Europe/London:20260614T103000
DTEND;TZID=Europe/London:20260614T133000
DTSTAMP:20260421T035215
CREATED:20260222T102413Z
LAST-MODIFIED:20260227T162551Z
UID:2295-1781433000-1781443800@ongarpetanque.co.uk
SUMMARY:Ongar Pétanque Competition Singles and Pairs (2nd Round) at Ongar Pétanque
DESCRIPTION:
URL:https://ongarpetanque.co.uk/event/ongar-club-competition-singles-and-pairs-2nd-roiund/
LOCATION:Ongar Pétanque\, The Pleasance\, High Street\, Chipping Ongar\, Essex\, CM5 9AB\, United Kingdom
CATEGORIES:Members
END:VEVENT
BEGIN:VEVENT
DTSTART;VALUE=DATE:20260620
DTEND;VALUE=DATE:20260621
DTSTAMP:20260421T035215
CREATED:20260222T102452Z
LAST-MODIFIED:20260227T140545Z
UID:2298-1781913600-1781999999@ongarpetanque.co.uk
SUMMARY:Essex South Pétanque League (4th Round)
DESCRIPTION:tbc
URL:https://ongarpetanque.co.uk/event/espl-4th-round/
CATEGORIES:Region and National
END:VEVENT
BEGIN:VEVENT
DTSTART;VALUE=DATE:20260621
DTEND;VALUE=DATE:20260622
DTSTAMP:20260421T035215
CREATED:20260222T102538Z
LAST-MODIFIED:20260227T162531Z
UID:2300-1782000000-1782086399@ongarpetanque.co.uk
SUMMARY:Ongar Pétanque Triples Day (Final Round) at Ongar Pétanque
DESCRIPTION:
URL:https://ongarpetanque.co.uk/event/ongar-club-triples-day-final-round/
LOCATION:Ongar Pétanque\, The Pleasance\, High Street\, Chipping Ongar\, Essex\, CM5 9AB\, United Kingdom
CATEGORIES:Members
END:VEVENT
BEGIN:VEVENT
DTSTART;VALUE=DATE:20260628
DTEND;VALUE=DATE:20260629
DTSTAMP:20260421T035215
CREATED:20260222T102709Z
LAST-MODIFIED:20260227T140307Z
UID:2302-1782604800-1782691199@ongarpetanque.co.uk
SUMMARY:Eastern Counties Regional (Day 3)
DESCRIPTION:tbc
URL:https://ongarpetanque.co.uk/event/eastern-counties-regional-day-3/
CATEGORIES:Region and National
END:VEVENT
BEGIN:VEVENT
DTSTART;VALUE=DATE:20260705
DTEND;VALUE=DATE:20260706
DTSTAMP:20260421T035215
CREATED:20260222T102757Z
LAST-MODIFIED:20260227T140257Z
UID:2304-1783209600-1783295999@ongarpetanque.co.uk
SUMMARY:Eastern Counties Region Vets Doubles (Over 55s)
DESCRIPTION:
URL:https://ongarpetanque.co.uk/event/eastern-counties-region-vets-doubles-over-55s/
LOCATION:Ongar Pétanque\, The Pleasance\, High Street\, Chipping Ongar\, Essex\, CM5 9AB\, United Kingdom
CATEGORIES:Region and National
END:VEVENT
BEGIN:VEVENT
DTSTART;VALUE=DATE:20260712
DTEND;VALUE=DATE:20260713
DTSTAMP:20260421T035215
CREATED:20260222T102857Z
LAST-MODIFIED:20260227T140231Z
UID:2306-1783814400-1783900799@ongarpetanque.co.uk
SUMMARY:Regional Qualifiers (Day 4) Qualifiers Squad Day
DESCRIPTION:tbc
URL:https://ongarpetanque.co.uk/event/regional-qualifiers-day-4-qualifiers-squad-day/
CATEGORIES:Region and National
END:VEVENT
BEGIN:VEVENT
DTSTART;TZID=Europe/London:20260718T103000
DTEND;TZID=Europe/London:20260718T133000
DTSTAMP:20260421T035215
CREATED:20260222T102921Z
LAST-MODIFIED:20260227T142639Z
UID:2308-1784370600-1784381400@ongarpetanque.co.uk
SUMMARY:Golden Coche v Maldon at Ongar Pétanque
DESCRIPTION:
URL:https://ongarpetanque.co.uk/event/golden-coche/
LOCATION:Ongar Pétanque\, The Pleasance\, High Street\, Chipping Ongar\, Essex\, CM5 9AB\, United Kingdom
CATEGORIES:Region and National
END:VEVENT
BEGIN:VEVENT
DTSTART;TZID=Europe/London:20260725T100000
DTEND;TZID=Europe/London:20260725T163000
DTSTAMP:20260421T035215
CREATED:20260302T100831Z
LAST-MODIFIED:20260302T101030Z
UID:3120-1784973600-1784997000@ongarpetanque.co.uk
SUMMARY:Ongar v Chalkwell at Ongar Petanque
DESCRIPTION:Social Match
URL:https://ongarpetanque.co.uk/event/ongar-v-chalkwell-at-ongar-petanque/
LOCATION:Ongar Pétanque\, The Pleasance\, High Street\, Chipping Ongar\, Essex\, CM5 9AB\, United Kingdom
CATEGORIES:Members
END:VEVENT
BEGIN:VEVENT
DTSTART;TZID=Europe/London:20260726T103000
DTEND;TZID=Europe/London:20260726T133000
DTSTAMP:20260421T035215
CREATED:20260222T103011Z
LAST-MODIFIED:20260227T162701Z
UID:2310-1785061800-1785072600@ongarpetanque.co.uk
SUMMARY:Ongar Pétanque Competition Pairs and Singles (3rd Round) at Ongar Pétanque
DESCRIPTION:
URL:https://ongarpetanque.co.uk/event/ongar-club-competition-pairs-and-singles-3rd-round/
LOCATION:Ongar Pétanque\, The Pleasance\, High Street\, Chipping Ongar\, Essex\, CM5 9AB\, United Kingdom
CATEGORIES:Members
END:VEVENT
BEGIN:VEVENT
DTSTART;VALUE=DATE:20260802
DTEND;VALUE=DATE:20260803
DTSTAMP:20260421T035215
CREATED:20260222T103141Z
LAST-MODIFIED:20260227T162339Z
UID:2312-1785628800-1785715199@ongarpetanque.co.uk
SUMMARY:Eastern Counties Region Open Doubles (Pétanque England Members Only)
DESCRIPTION:tbc
URL:https://ongarpetanque.co.uk/event/eastern-counties-region-open-doubles-petanque-england-members-only/
CATEGORIES:Region and National
END:VEVENT
BEGIN:VEVENT
DTSTART;TZID=Europe/London:20260809T103000
DTEND;TZID=Europe/London:20260809T133000
DTSTAMP:20260421T035215
CREATED:20260222T103224Z
LAST-MODIFIED:20260227T162613Z
UID:2314-1786271400-1786282200@ongarpetanque.co.uk
SUMMARY:Ongar Pétanque Competition (Semi Finals) at Ongar Pétanque
DESCRIPTION:
URL:https://ongarpetanque.co.uk/event/ongar-club-competition-semi-finals/
LOCATION:Ongar Pétanque\, The Pleasance\, High Street\, Chipping Ongar\, Essex\, CM5 9AB\, United Kingdom
CATEGORIES:Members
END:VEVENT
BEGIN:VEVENT
DTSTART;VALUE=DATE:20260815
DTEND;VALUE=DATE:20260816
DTSTAMP:20260421T035215
CREATED:20260222T103310Z
LAST-MODIFIED:20260227T135637Z
UID:2316-1786752000-1786838399@ongarpetanque.co.uk
SUMMARY:Eastern Region Counties Vintage Pairs (Over 70s)
DESCRIPTION:
URL:https://ongarpetanque.co.uk/event/eastern-region-counties-vintage-pairs-over-70s/
LOCATION:Ongar Pétanque\, The Pleasance\, High Street\, Chipping Ongar\, Essex\, CM5 9AB\, United Kingdom
CATEGORIES:Region and National
END:VEVENT
BEGIN:VEVENT
DTSTART;VALUE=DATE:20260815
DTEND;VALUE=DATE:20260816
DTSTAMP:20260421T035215
CREATED:20260222T103403Z
LAST-MODIFIED:20260227T140858Z
UID:2318-1786752000-1786838399@ongarpetanque.co.uk
SUMMARY:Pétanque England Vets (Mixed Doubles)
DESCRIPTION:tbc
URL:https://ongarpetanque.co.uk/event/petanque-england-vets-mixed-doubles/
CATEGORIES:Region and National
END:VEVENT
BEGIN:VEVENT
DTSTART;VALUE=DATE:20260816
DTEND;VALUE=DATE:20260817
DTSTAMP:20260421T035215
CREATED:20260222T103446Z
LAST-MODIFIED:20260227T140845Z
UID:2320-1786838400-1786924799@ongarpetanque.co.uk
SUMMARY:Pétanque England Vets (Open Triples)
DESCRIPTION:tbc
URL:https://ongarpetanque.co.uk/event/petanque-england-vets-open-triples/
CATEGORIES:Region and National
END:VEVENT
BEGIN:VEVENT
DTSTART;VALUE=DATE:20260904
DTEND;VALUE=DATE:20260907
DTSTAMP:20260421T035215
CREATED:20260222T103557Z
LAST-MODIFIED:20260227T140822Z
UID:2322-1788480000-1788739199@ongarpetanque.co.uk
SUMMARY:Pétanque England Inter Regionals Finals
DESCRIPTION:
URL:https://ongarpetanque.co.uk/event/eastern-counties-region-open-triples-petanque-england-members-only/
LOCATION:Western-Super-Mare Pétanque Club\, See Monster Gardens\, Beach Road (Next to Royal Sands)\, Weston-super-Mare\,\, BS23 4BN\, United Kingdom
CATEGORIES:Region and National
END:VEVENT
BEGIN:VEVENT
DTSTART;VALUE=DATE:20260913
DTEND;VALUE=DATE:20260914
DTSTAMP:20260421T035215
CREATED:20260222T103709Z
LAST-MODIFIED:20260227T133410Z
UID:2324-1789257600-1789343999@ongarpetanque.co.uk
SUMMARY:Eastern Counties Regional Triples tbc
DESCRIPTION:
URL:https://ongarpetanque.co.uk/event/inter-regional-finals/
CATEGORIES:Region and National
END:VEVENT
BEGIN:VEVENT
DTSTART;VALUE=DATE:20260920
DTEND;VALUE=DATE:20260921
DTSTAMP:20260421T035215
CREATED:20260222T103940Z
LAST-MODIFIED:20260227T133242Z
UID:2328-1789862400-1789948799@ongarpetanque.co.uk
SUMMARY:Eastern Counties Regional Melee tbc
DESCRIPTION:
URL:https://ongarpetanque.co.uk/event/eastern-counties-regional-qualifiers-day-5/
CATEGORIES:Region and National
END:VEVENT
BEGIN:VEVENT
DTSTART;TZID=Europe/London:20260927T103000
DTEND;TZID=Europe/London:20260927T133000
DTSTAMP:20260421T035215
CREATED:20260222T104039Z
LAST-MODIFIED:20260227T162444Z
UID:2330-1790505000-1790515800@ongarpetanque.co.uk
SUMMARY:Ongar Pétanque Finals Day and Buffet at Ongar Pétanque
DESCRIPTION:
URL:https://ongarpetanque.co.uk/event/ongar-club-finals-day-and-buffet/
LOCATION:Ongar Pétanque\, The Pleasance\, High Street\, Chipping Ongar\, Essex\, CM5 9AB\, United Kingdom
CATEGORIES:Members
END:VEVENT
BEGIN:VEVENT
DTSTART;TZID=Europe/London:20261004T100000
DTEND;TZID=Europe/London:20261004T133000
DTSTAMP:20260421T035215
CREATED:20260222T104138Z
LAST-MODIFIED:20260227T142458Z
UID:2332-1791108000-1791120600@ongarpetanque.co.uk
SUMMARY:Ongar versus Epping Challenge (2nd Leg) at Ongar Pétanque
DESCRIPTION:
URL:https://ongarpetanque.co.uk/event/ongar-versus-epping-challenge-2nd-leg/
LOCATION:Ongar Pétanque\, The Pleasance\, High Street\, Chipping Ongar\, Essex\, CM5 9AB\, United Kingdom
CATEGORIES:Members
END:VEVENT
END:VCALENDAR