BEGIN:VCALENDAR
VERSION:2.0
PRODID:-//Ongar Pétanque - ECPv6.15.17//NONSGML v1.0//EN
CALSCALE:GREGORIAN
METHOD:PUBLISH
X-WR-CALNAME:Ongar Pétanque
X-ORIGINAL-URL:https://ongarpetanque.co.uk
X-WR-CALDESC:Events for Ongar Pétanque
REFRESH-INTERVAL;VALUE=DURATION:PT1H
X-Robots-Tag:noindex
X-PUBLISHED-TTL:PT1H
BEGIN:VTIMEZONE
TZID:Europe/London
BEGIN:DAYLIGHT
TZOFFSETFROM:+0000
TZOFFSETTO:+0100
TZNAME:BST
DTSTART:20250330T010000
END:DAYLIGHT
BEGIN:STANDARD
TZOFFSETFROM:+0100
TZOFFSETTO:+0000
TZNAME:GMT
DTSTART:20251026T010000
END:STANDARD
BEGIN:DAYLIGHT
TZOFFSETFROM:+0000
TZOFFSETTO:+0100
TZNAME:BST
DTSTART:20260329T010000
END:DAYLIGHT
BEGIN:STANDARD
TZOFFSETFROM:+0100
TZOFFSETTO:+0000
TZNAME:GMT
DTSTART:20261025T010000
END:STANDARD
BEGIN:DAYLIGHT
TZOFFSETFROM:+0000
TZOFFSETTO:+0100
TZNAME:BST
DTSTART:20270328T010000
END:DAYLIGHT
BEGIN:STANDARD
TZOFFSETFROM:+0100
TZOFFSETTO:+0000
TZNAME:GMT
DTSTART:20271031T010000
END:STANDARD
END:VTIMEZONE
BEGIN:VEVENT
DTSTART;VALUE=DATE:20260308
DTEND;VALUE=DATE:20260309
DTSTAMP:20260421T064535
CREATED:20260219T131627Z
LAST-MODIFIED:20260227T160423Z
UID:2158-1772928000-1773014399@ongarpetanque.co.uk
SUMMARY:IWD Womens Day Pairs at Towers Pétanque Club\, Brookweald Cricket Club
DESCRIPTION:
URL:https://ongarpetanque.co.uk/event/iwd-womens-day-pairs-at-towers-petanque-club/
LOCATION:Towers Pétanque Club\, Brookweald Cricket Club\, Weald Road\, South Weald\, CM14 5QG\, United Kingdom
CATEGORIES:Region and National
END:VEVENT
BEGIN:VEVENT
DTSTART;TZID=Europe/London:20260222T103000
DTEND;TZID=Europe/London:20260222T133000
DTSTAMP:20260421T064535
CREATED:20260219T131349Z
LAST-MODIFIED:20260227T162858Z
UID:2154-1771756200-1771767000@ongarpetanque.co.uk
SUMMARY:Ongar Pétanque Triples Day at Ongar Pétanque
DESCRIPTION:1st Round starts at 10:30
URL:https://ongarpetanque.co.uk/event/ongar-club-triples-day/
LOCATION:Ongar Pétanque\, The Pleasance\, High Street\, Chipping Ongar\, Essex\, CM5 9AB\, United Kingdom
CATEGORIES:Members
END:VEVENT
BEGIN:VEVENT
DTSTART;TZID=Europe/London:20260222T080000
DTEND;TZID=Europe/London:20260222T170000
DTSTAMP:20260421T064535
CREATED:20260222T102058Z
LAST-MODIFIED:20260227T142800Z
UID:2289-1771747200-1771779600@ongarpetanque.co.uk
SUMMARY:Epping and Ongar Challenge 1st Leg at Ongar Pétanque
DESCRIPTION:
URL:https://ongarpetanque.co.uk/event/epping-and-ongar-challenge-1st-leg/
LOCATION:Ongar Pétanque\, The Pleasance\, High Street\, Chipping Ongar\, Essex\, CM5 9AB\, United Kingdom
CATEGORIES:Members
END:VEVENT
BEGIN:VEVENT
DTSTART;TZID=Europe/London:20260219T080000
DTEND;TZID=Europe/London:20260219T170000
DTSTAMP:20260421T064535
CREATED:20260219T141237Z
LAST-MODIFIED:20260227T132457Z
UID:2227-1771488000-1771520400@ongarpetanque.co.uk
SUMMARY:Bank Holiday
DESCRIPTION:
URL:https://ongarpetanque.co.uk/event/bank-holiday/
END:VEVENT
END:VCALENDAR