BEGIN:VCALENDAR
VERSION:2.0
PRODID:-//Ongar Pétanque - ECPv6.15.17//NONSGML v1.0//EN
CALSCALE:GREGORIAN
METHOD:PUBLISH
X-WR-CALNAME:Ongar Pétanque
X-ORIGINAL-URL:https://ongarpetanque.co.uk
X-WR-CALDESC:Events for Ongar Pétanque
REFRESH-INTERVAL;VALUE=DURATION:PT1H
X-Robots-Tag:noindex
X-PUBLISHED-TTL:PT1H
BEGIN:VTIMEZONE
TZID:Europe/London
BEGIN:DAYLIGHT
TZOFFSETFROM:+0000
TZOFFSETTO:+0100
TZNAME:BST
DTSTART:20250330T010000
END:DAYLIGHT
BEGIN:STANDARD
TZOFFSETFROM:+0100
TZOFFSETTO:+0000
TZNAME:GMT
DTSTART:20251026T010000
END:STANDARD
BEGIN:DAYLIGHT
TZOFFSETFROM:+0000
TZOFFSETTO:+0100
TZNAME:BST
DTSTART:20260329T010000
END:DAYLIGHT
BEGIN:STANDARD
TZOFFSETFROM:+0100
TZOFFSETTO:+0000
TZNAME:GMT
DTSTART:20261025T010000
END:STANDARD
BEGIN:DAYLIGHT
TZOFFSETFROM:+0000
TZOFFSETTO:+0100
TZNAME:BST
DTSTART:20270328T010000
END:DAYLIGHT
BEGIN:STANDARD
TZOFFSETFROM:+0100
TZOFFSETTO:+0000
TZNAME:GMT
DTSTART:20271031T010000
END:STANDARD
END:VTIMEZONE
BEGIN:VEVENT
DTSTART;VALUE=DATE:20260606
DTEND;VALUE=DATE:20260607
DTSTAMP:20260421T001212
CREATED:20260219T141332Z
LAST-MODIFIED:20260227T140749Z
UID:2229-1780704000-1780790399@ongarpetanque.co.uk
SUMMARY:Pétanque England IWD National Pairs Final
DESCRIPTION:
URL:https://ongarpetanque.co.uk/event/iwd-national-pairs-final/
LOCATION:Whitnash Windmill Pétanque Club\, Heathcote Road\, Whitnash\, Warwickshire\, CV31 2NF\, United Kingdom
CATEGORIES:Region and National
END:VEVENT
BEGIN:VEVENT
DTSTART;VALUE=DATE:20260620
DTEND;VALUE=DATE:20260621
DTSTAMP:20260421T001212
CREATED:20260222T102452Z
LAST-MODIFIED:20260227T140545Z
UID:2298-1781913600-1781999999@ongarpetanque.co.uk
SUMMARY:Essex South Pétanque League (4th Round)
DESCRIPTION:tbc
URL:https://ongarpetanque.co.uk/event/espl-4th-round/
CATEGORIES:Region and National
END:VEVENT
BEGIN:VEVENT
DTSTART;VALUE=DATE:20260628
DTEND;VALUE=DATE:20260629
DTSTAMP:20260421T001212
CREATED:20260222T102709Z
LAST-MODIFIED:20260227T140307Z
UID:2302-1782604800-1782691199@ongarpetanque.co.uk
SUMMARY:Eastern Counties Regional (Day 3)
DESCRIPTION:tbc
URL:https://ongarpetanque.co.uk/event/eastern-counties-regional-day-3/
CATEGORIES:Region and National
END:VEVENT
END:VCALENDAR