BEGIN:VCALENDAR
VERSION:2.0
PRODID:-//Ongar Pétanque - ECPv6.15.17//NONSGML v1.0//EN
CALSCALE:GREGORIAN
METHOD:PUBLISH
X-ORIGINAL-URL:https://ongarpetanque.co.uk
X-WR-CALDESC:Events for Ongar Pétanque
REFRESH-INTERVAL;VALUE=DURATION:PT1H
X-Robots-Tag:noindex
X-PUBLISHED-TTL:PT1H
BEGIN:VTIMEZONE
TZID:Europe/London
BEGIN:DAYLIGHT
TZOFFSETFROM:+0000
TZOFFSETTO:+0100
TZNAME:BST
DTSTART:20250330T010000
END:DAYLIGHT
BEGIN:STANDARD
TZOFFSETFROM:+0100
TZOFFSETTO:+0000
TZNAME:GMT
DTSTART:20251026T010000
END:STANDARD
BEGIN:DAYLIGHT
TZOFFSETFROM:+0000
TZOFFSETTO:+0100
TZNAME:BST
DTSTART:20260329T010000
END:DAYLIGHT
BEGIN:STANDARD
TZOFFSETFROM:+0100
TZOFFSETTO:+0000
TZNAME:GMT
DTSTART:20261025T010000
END:STANDARD
BEGIN:DAYLIGHT
TZOFFSETFROM:+0000
TZOFFSETTO:+0100
TZNAME:BST
DTSTART:20270328T010000
END:DAYLIGHT
BEGIN:STANDARD
TZOFFSETFROM:+0100
TZOFFSETTO:+0000
TZNAME:GMT
DTSTART:20271031T010000
END:STANDARD
END:VTIMEZONE
BEGIN:VEVENT
DTSTART;TZID=Europe/London:20260329T103000
DTEND;TZID=Europe/London:20260329T133000
DTSTAMP:20260418T055740
CREATED:20260219T131912Z
LAST-MODIFIED:20260227T162841Z
UID:2164-1774780200-1774791000@ongarpetanque.co.uk
SUMMARY:Ongar Pétanque Triples (2nd Round) at Ongar Pétanque
DESCRIPTION:
URL:https://ongarpetanque.co.uk/event/ongar-club-triples-2nd-round/
LOCATION:Ongar Pétanque\, The Pleasance\, High Street\, Chipping Ongar\, Essex\, CM5 9AB\, United Kingdom
CATEGORIES:Members
END:VEVENT
END:VCALENDAR